BEGIN:VCALENDAR
VERSION:2.0
PRODID:-//AMF86 - ECPv6.15.20//NONSGML v1.0//EN
CALSCALE:GREGORIAN
METHOD:PUBLISH
X-WR-CALNAME:AMF86
X-ORIGINAL-URL:https://amf86.fr
X-WR-CALDESC:Évènements pour AMF86
REFRESH-INTERVAL;VALUE=DURATION:PT1H
X-Robots-Tag:noindex
X-PUBLISHED-TTL:PT1H
BEGIN:VTIMEZONE
TZID:Europe/Paris
BEGIN:DAYLIGHT
TZOFFSETFROM:+0100
TZOFFSETTO:+0200
TZNAME:CEST
DTSTART:20250330T010000
END:DAYLIGHT
BEGIN:STANDARD
TZOFFSETFROM:+0200
TZOFFSETTO:+0100
TZNAME:CET
DTSTART:20251026T010000
END:STANDARD
BEGIN:DAYLIGHT
TZOFFSETFROM:+0100
TZOFFSETTO:+0200
TZNAME:CEST
DTSTART:20260329T010000
END:DAYLIGHT
BEGIN:STANDARD
TZOFFSETFROM:+0200
TZOFFSETTO:+0100
TZNAME:CET
DTSTART:20261025T010000
END:STANDARD
BEGIN:DAYLIGHT
TZOFFSETFROM:+0100
TZOFFSETTO:+0200
TZNAME:CEST
DTSTART:20270328T010000
END:DAYLIGHT
BEGIN:STANDARD
TZOFFSETFROM:+0200
TZOFFSETTO:+0100
TZNAME:CET
DTSTART:20271031T010000
END:STANDARD
END:VTIMEZONE
BEGIN:VEVENT
DTSTART;TZID=Europe/Paris:20260420T090000
DTEND;TZID=Europe/Paris:20260420T100000
DTSTAMP:20260419T140828
CREATED:20260319T081225Z
LAST-MODIFIED:20260409T093648Z
UID:2163-1776675600-1776679200@amf86.fr
SUMMARY:REPORTÉ - Webinaire "La création de l'identité numérique pour les élus"
DESCRIPTION:L’Association des Maires et Présidents d’intercommunalité de la Vienne\, en partenariat avec la Poste vous invite à participer à un webinaire dont le thème est le suivant : « La création de l’identité numérique pour les élus »\, le lundi 20 avril\, de 9h00 à 10h00 (reporté à une date ultérieure). \nPour pouvoir participer à des formations\, les élus de la Vienne peuvent utiliser leur dispositif de DIF élu. Ce fonds\, géré par la Caisse des dépôts et consignations\, leur permet de faire financer leur formation par celle-ci. \nPour cela\, il est nécessaire de se doter d’une identité numérique permettant ensuite une demande d’inscription sur moncompteformation.gouv.fr. \nAfin de créer cette identité numérique\, la Poste\, partenaire de l’AMF86\, vous propose de participer à cette visio qui portera sur : \n\nL’utilité d’une identité numérique\nLes prérequis\nUne démonstration\nTemps d’échanges questions/réponses\n\nUne nouvelle date vous sera communiquée ultérieurement.
URL:https://amf86.fr/agenda/webinaire-la-creation-de-lidentite-numerique-pour-les-elus/
LOCATION:Salle vituelle
CATEGORIES:Webinaires
ATTACH;FMTTYPE=image/png:https://amf86.fr/wp-content/uploads/2026/03/Identite-numerique.png
END:VEVENT
END:VCALENDAR