BEGIN:VCALENDAR
VERSION:2.0
PRODID:-//AMF86 - ECPv6.15.20//NONSGML v1.0//EN
CALSCALE:GREGORIAN
METHOD:PUBLISH
X-ORIGINAL-URL:https://amf86.fr
X-WR-CALDESC:Évènements pour AMF86
REFRESH-INTERVAL;VALUE=DURATION:PT1H
X-Robots-Tag:noindex
X-PUBLISHED-TTL:PT1H
BEGIN:VTIMEZONE
TZID:Europe/Paris
BEGIN:DAYLIGHT
TZOFFSETFROM:+0100
TZOFFSETTO:+0200
TZNAME:CEST
DTSTART:20250330T010000
END:DAYLIGHT
BEGIN:STANDARD
TZOFFSETFROM:+0200
TZOFFSETTO:+0100
TZNAME:CET
DTSTART:20251026T010000
END:STANDARD
BEGIN:DAYLIGHT
TZOFFSETFROM:+0100
TZOFFSETTO:+0200
TZNAME:CEST
DTSTART:20260329T010000
END:DAYLIGHT
BEGIN:STANDARD
TZOFFSETFROM:+0200
TZOFFSETTO:+0100
TZNAME:CET
DTSTART:20261025T010000
END:STANDARD
BEGIN:DAYLIGHT
TZOFFSETFROM:+0100
TZOFFSETTO:+0200
TZNAME:CEST
DTSTART:20270328T010000
END:DAYLIGHT
BEGIN:STANDARD
TZOFFSETFROM:+0200
TZOFFSETTO:+0100
TZNAME:CET
DTSTART:20271031T010000
END:STANDARD
END:VTIMEZONE
BEGIN:VEVENT
DTSTART;TZID=Europe/Paris:20260616T090000
DTEND;TZID=Europe/Paris:20260616T120000
DTSTAMP:20260419T165425
CREATED:20260326T151550Z
LAST-MODIFIED:20260326T151550Z
UID:2198-1781600400-1781611200@amf86.fr
SUMMARY:Le maire et Orange
DESCRIPTION:L’Association des Maires et Présidents d’intercommunalité de la Vienne\, en partenariat avec Orange vous invite à participer à une réunion d’information dont le thème est le suivant : « Le maire et Orange »\, le mardi 16 juin\, de 9h00 à 12h00.  \nRéunion accessible à tous les élus. \nLa présentation sera animée par Romain Mesnil\, Directeur territorial Orange Grand Sud-Ouest\, et portera sur : \n\nFiche de contact Orange : qui contacter ? sur quels sujets du quotidien?\nPoint sur le déploiement de la fibre\nArrêt du cuivre\nArrêt de la 2G\nEnjeux du numérique :\n\n\n\nEnvironnement : lancement du programme Re\nInclusion numérique : ateliers proposés par Orange\nCyber sécurité\nIA Générative\nSouveraineté énergétique et numérique\n\n\n\n\nTemps d’échanges questions/réponses\n\nS’INSCRIRE
URL:https://amf86.fr/agenda/le-maire-et-orange/
LOCATION:Maison des communes\, Avenue René Cassin\, Chasseneuil-du-Poitou\, 86360\, France
CATEGORIES:Réunions d'information
ATTACH;FMTTYPE=image/png:https://amf86.fr/wp-content/uploads/2026/03/Le-maire-et-Orange.png
END:VEVENT
END:VCALENDAR