BEGIN:VCALENDAR
VERSION:2.0
PRODID:-//AMF86 - ECPv6.15.20//NONSGML v1.0//EN
CALSCALE:GREGORIAN
METHOD:PUBLISH
X-ORIGINAL-URL:https://amf86.fr
X-WR-CALDESC:Évènements pour AMF86
REFRESH-INTERVAL;VALUE=DURATION:PT1H
X-Robots-Tag:noindex
X-PUBLISHED-TTL:PT1H
BEGIN:VTIMEZONE
TZID:Europe/Paris
BEGIN:DAYLIGHT
TZOFFSETFROM:+0100
TZOFFSETTO:+0200
TZNAME:CEST
DTSTART:20250330T010000
END:DAYLIGHT
BEGIN:STANDARD
TZOFFSETFROM:+0200
TZOFFSETTO:+0100
TZNAME:CET
DTSTART:20251026T010000
END:STANDARD
BEGIN:DAYLIGHT
TZOFFSETFROM:+0100
TZOFFSETTO:+0200
TZNAME:CEST
DTSTART:20260329T010000
END:DAYLIGHT
BEGIN:STANDARD
TZOFFSETFROM:+0200
TZOFFSETTO:+0100
TZNAME:CET
DTSTART:20261025T010000
END:STANDARD
BEGIN:DAYLIGHT
TZOFFSETFROM:+0100
TZOFFSETTO:+0200
TZNAME:CEST
DTSTART:20270328T010000
END:DAYLIGHT
BEGIN:STANDARD
TZOFFSETFROM:+0200
TZOFFSETTO:+0100
TZNAME:CET
DTSTART:20271031T010000
END:STANDARD
END:VTIMEZONE
BEGIN:VEVENT
DTSTART;TZID=Europe/Paris:20260909T090000
DTEND;TZID=Europe/Paris:20260909T170000
DTSTAMP:20260419T192944
CREATED:20260313T135450Z
LAST-MODIFIED:20260319T143854Z
UID:2093-1788944400-1788973200@amf86.fr
SUMMARY:Universités des maires et présidents d'intercommunalité de la Vienne
DESCRIPTION:L’AMF86 et l’AMF vous proposent\, dans le cadre des “Universités des maires et présidents d’intercommunalités de la Vienne”\, un programme pédagogique spécifique\, mis en œuvre et financé\, par l’AMF86\, Mairie 2000 et ses partenaires.\nDe nombreux élus sont attendus au cours de ces journées d’information qui se dérouleront les 28 et 29 avril\, puis les 9 et 10 septembre 2026 à l’Espace Mérovée de Saint-Georges-Lès-Baillargeaux et qui permettront aux élus de se familiariser avec les thèmes majeurs de l’exercice d’un mandat. \nAteliers gratuits ouverts à tous les élus \nProgramme du 9 septembre 2026 : \n\n9h00 : accueil café\n9h30 : urbanisme réglementaire\n11h00 : voirie communale\n12h30 : cocktail déjeunatoire (15€)\n14h00 : exercer ses pouvoirs de police en toute sécurité\n15h30 : présentation du Syndicat Eaux de Vienne\n17h00 : fin de journée\n\n-> Programme complet des UM2026 disponible ici \nS’INSCRIRE
URL:https://amf86.fr/agenda/universites-des-maires-et-presidents-dintercommunalite-de-la-vienne-3/
LOCATION:Espace Mérovée – Saint-Georges-lès-Baillargeaux\, Route du stade\, Saint-Georges-lès-Baillargeaux\, 86130
CATEGORIES:Événements AMF86
ATTACH;FMTTYPE=image/png:https://amf86.fr/wp-content/uploads/2026/03/Logo-UM2026-AMF86.png
END:VEVENT
END:VCALENDAR