BEGIN:VCALENDAR
VERSION:2.0
PRODID:-//AMF86 - ECPv6.15.20//NONSGML v1.0//EN
CALSCALE:GREGORIAN
METHOD:PUBLISH
X-ORIGINAL-URL:https://amf86.fr
X-WR-CALDESC:Évènements pour AMF86
REFRESH-INTERVAL;VALUE=DURATION:PT1H
X-Robots-Tag:noindex
X-PUBLISHED-TTL:PT1H
BEGIN:VTIMEZONE
TZID:Europe/Paris
BEGIN:DAYLIGHT
TZOFFSETFROM:+0100
TZOFFSETTO:+0200
TZNAME:CEST
DTSTART:20250330T010000
END:DAYLIGHT
BEGIN:STANDARD
TZOFFSETFROM:+0200
TZOFFSETTO:+0100
TZNAME:CET
DTSTART:20251026T010000
END:STANDARD
BEGIN:DAYLIGHT
TZOFFSETFROM:+0100
TZOFFSETTO:+0200
TZNAME:CEST
DTSTART:20260329T010000
END:DAYLIGHT
BEGIN:STANDARD
TZOFFSETFROM:+0200
TZOFFSETTO:+0100
TZNAME:CET
DTSTART:20261025T010000
END:STANDARD
BEGIN:DAYLIGHT
TZOFFSETFROM:+0100
TZOFFSETTO:+0200
TZNAME:CEST
DTSTART:20270328T010000
END:DAYLIGHT
BEGIN:STANDARD
TZOFFSETFROM:+0200
TZOFFSETTO:+0100
TZNAME:CET
DTSTART:20271031T010000
END:STANDARD
END:VTIMEZONE
BEGIN:VEVENT
DTSTART;TZID=Europe/Paris:20260505T140000
DTEND;TZID=Europe/Paris:20260505T160000
DTSTAMP:20260419T140639
CREATED:20260313T135300Z
LAST-MODIFIED:20260313T135300Z
UID:2083-1777989600-1777996800@amf86.fr
SUMMARY:Le fonctionnement du conseil municipal
DESCRIPTION:Dans la suite des élections municipales de mars 2026\, l’Association des Maires et Présidents d’intercommunalité de la Vienne organise des réunions d’information\, d’une durée de 2h00\, à destination de l’ensemble des élus de la Vienne dont le thème est le suivant : Le fonctionnement du conseil municipal. \nSix réunions pour vous guider dans votre nouvelle fonction ou pour vous rappeler certaines règles relatives à l’environnement territorial d’une commune vous sont ainsi proposées sur l’ensemble du territoire de la Vienne. \nCes réunions s’adressent à l’ensemble des élus des collectivités dans la limite des places disponibles et seront animées par Lucie Bébin-Brossard (Directrice de l’AMF86). \nContenu : \n\nRôles et droits des élus municipaux : maire\, adjoints et conseillers municipaux\nOrganisation du conseil municipal : convocation\, ordre du jour\, quorum et déroulement des séances\nAdoption et sécurisation des délibérations : règles de vote\, rédaction et formalités\nPublicité et suivi des décisions : procès-verbal\, affichage et transmission des actes\n\nS’INSCRIRE
URL:https://amf86.fr/agenda/le-fonctionnement-du-conseil-municipal-6/
LOCATION:Salle vituelle
CATEGORIES:Réunions d'information
ATTACH;FMTTYPE=image/png:https://amf86.fr/wp-content/uploads/2026/03/Le-fonctionnement-du-conseil-municipal-1.png
END:VEVENT
BEGIN:VEVENT
DTSTART;TZID=Europe/Paris:20260522T090000
DTEND;TZID=Europe/Paris:20260522T120000
DTSTAMP:20260419T140639
CREATED:20260326T151926Z
LAST-MODIFIED:20260408T065332Z
UID:2191-1779440400-1779451200@amf86.fr
SUMMARY:Le maire employeur
DESCRIPTION:L’Association des Maires et Présidents d’intercommunalité de la Vienne\, en partenariat avec le Centre de Gestion de la fonction publique territoriale de la Vienne vous invite à participer à une réunion d’information dont le thème est le suivant : « Le maire employeur »\, le vendredi 22 mai\, de 9h00 à 12h00. Cette réunion se tiendra dans les locaux du CDG86. \nRéunion accessible aux maires\, adjoints et élus en charge du personnel. \nLa présentation sera animée par Isabelle Jadaud-Pressat\, Directrice générale du CDG86 et par Faustine Guérin\, Conseillère en organisation et stratégie RH. \nObjectifs :  \n\nComprendre le rôle d’Élu – Employeur\nConnaître les fondamentaux de la gestion des ressources humaines et sécuriser ses pratiques\nMaîtriser les bases du management territorial\n\n Programme :  \n\n Rôle et responsabilités de l’employeur public territorial\n\n\nLe rôle et les responsabilités des élus dans la gestion des ressources humaines\nLes choix politiques stratégiques au service des Ressources Humaines\nL’organisation\, le management et le pilotage de l’administration\nL’articulation entre élus et administration\nLa place et le rôle de chacun\n\n\nFondamentaux de la gestion RH \n\n\nLes notions clés du statut de la fonction publique territoriale\nLes documents obligatoires et essentiels : le package RH\nL’accompagnement du CDG 86\n\nS’INSCRIRE
URL:https://amf86.fr/agenda/le-maire-employeur-2/
LOCATION:Centre de gestion de la fonction publique territoriale\, Téléport 1 -Avenue du Futuroscope - Arobase 1 - CS 20205\, CHASSENEUIL-DU-POITOU FUTUROSCOPE\, 86962\, France
CATEGORIES:Réunions d'information
ATTACH;FMTTYPE=image/png:https://amf86.fr/wp-content/uploads/2026/03/Le-maire-employeur.png
END:VEVENT
END:VCALENDAR